BEGIN:VCALENDAR
VERSION:2.0
PRODID:-//KulturKreis Walddörfer e.V. - ECPv6.15.20//NONSGML v1.0//EN
CALSCALE:GREGORIAN
METHOD:PUBLISH
X-WR-CALNAME:KulturKreis Walddörfer e.V.
X-ORIGINAL-URL:https://kulturkreis-walddoerfer.net
X-WR-CALDESC:Veranstaltungen für KulturKreis Walddörfer e.V.
REFRESH-INTERVAL;VALUE=DURATION:PT1H
X-Robots-Tag:noindex
X-PUBLISHED-TTL:PT1H
BEGIN:VTIMEZONE
TZID:Europe/Berlin
BEGIN:DAYLIGHT
TZOFFSETFROM:+0100
TZOFFSETTO:+0200
TZNAME:CEST
DTSTART:20240331T010000
END:DAYLIGHT
BEGIN:STANDARD
TZOFFSETFROM:+0200
TZOFFSETTO:+0100
TZNAME:CET
DTSTART:20241027T010000
END:STANDARD
BEGIN:DAYLIGHT
TZOFFSETFROM:+0100
TZOFFSETTO:+0200
TZNAME:CEST
DTSTART:20250330T010000
END:DAYLIGHT
BEGIN:STANDARD
TZOFFSETFROM:+0200
TZOFFSETTO:+0100
TZNAME:CET
DTSTART:20251026T010000
END:STANDARD
BEGIN:DAYLIGHT
TZOFFSETFROM:+0100
TZOFFSETTO:+0200
TZNAME:CEST
DTSTART:20260329T010000
END:DAYLIGHT
BEGIN:STANDARD
TZOFFSETFROM:+0200
TZOFFSETTO:+0100
TZNAME:CET
DTSTART:20261025T010000
END:STANDARD
END:VTIMEZONE
BEGIN:VEVENT
DTSTART;TZID=Europe/Berlin:20250915T183000
DTEND;TZID=Europe/Berlin:20250915T183000
DTSTAMP:20260424T060411
CREATED:20250804T125331Z
LAST-MODIFIED:20250804T125331Z
UID:4104-1757961000-1757961000@kulturkreis-walddoerfer.net
SUMMARY:Christa BeugEin Wilhelm-Busch-Abend: Zu guter Letzt
DESCRIPTION:Die Bildergeschichten  des Humoristen Wilhelm Busch haben den meistgelesenen deutschen Vers-Virtuosen und künstlerischen Avantgardisten schon zu Lebzeiten weltberühmt werden lassen. Weniger bekannt sind Teile seines lyrischen Spätwerks\, in dem Busch über das Altern nachdenkt und die Zustände in der Welt und im Privaten mit Witz und Klugheit reflektiert. Die Busch-Verehrerin und ehemalige Lehrerin Christa Beug rezitiert aus dieser letzten großen Lyriksammlung „Zu guter Letzt“.  Karen Heinrich vom Kulturkreis wird Christa Beugs Vortrag ergänzen durch Wissenswertes über das eher unbekannte Leben des so facettenreichen und widersprüchlichen Menschen Wilhelm Busch. \n  \nDer Eintritt ist frei.  Spenden sind willkommen.
URL:https://kulturkreis-walddoerfer.net/veranstaltung/christa-beugein-wilhelm-busch-abend-zu-guter-letzt/
LOCATION:Die Ohlendorff’sche Villa\, Im Alten Dorfe 28\, Hamburg\, 22359
CATEGORIES:Vortrag
ATTACH;FMTTYPE=image/png:https://kulturkreis-walddoerfer.net/wp-content/uploads/2025/08/Wilhelm_Busch.png
END:VEVENT
END:VCALENDAR