BEGIN:VCALENDAR
VERSION:2.0
PRODID:-//KulturKreis Walddörfer e.V. - ECPv6.15.20//NONSGML v1.0//EN
CALSCALE:GREGORIAN
METHOD:PUBLISH
X-ORIGINAL-URL:https://kulturkreis-walddoerfer.net
X-WR-CALDESC:Veranstaltungen für KulturKreis Walddörfer e.V.
REFRESH-INTERVAL;VALUE=DURATION:PT1H
X-Robots-Tag:noindex
X-PUBLISHED-TTL:PT1H
BEGIN:VTIMEZONE
TZID:Europe/Berlin
BEGIN:DAYLIGHT
TZOFFSETFROM:+0100
TZOFFSETTO:+0200
TZNAME:CEST
DTSTART:20240331T010000
END:DAYLIGHT
BEGIN:STANDARD
TZOFFSETFROM:+0200
TZOFFSETTO:+0100
TZNAME:CET
DTSTART:20241027T010000
END:STANDARD
BEGIN:DAYLIGHT
TZOFFSETFROM:+0100
TZOFFSETTO:+0200
TZNAME:CEST
DTSTART:20250330T010000
END:DAYLIGHT
BEGIN:STANDARD
TZOFFSETFROM:+0200
TZOFFSETTO:+0100
TZNAME:CET
DTSTART:20251026T010000
END:STANDARD
BEGIN:DAYLIGHT
TZOFFSETFROM:+0100
TZOFFSETTO:+0200
TZNAME:CEST
DTSTART:20260329T010000
END:DAYLIGHT
BEGIN:STANDARD
TZOFFSETFROM:+0200
TZOFFSETTO:+0100
TZNAME:CET
DTSTART:20261025T010000
END:STANDARD
END:VTIMEZONE
BEGIN:VEVENT
DTSTART;TZID=Europe/Berlin:20250909T193000
DTEND;TZID=Europe/Berlin:20250909T193000
DTSTAMP:20260424T022029
CREATED:20250804T125313Z
LAST-MODIFIED:20250804T125313Z
UID:4101-1757446200-1757446200@kulturkreis-walddoerfer.net
SUMMARY:Professor Dr.  Michael GöringLesung und Diskussion:  Die Zeitenwende – von der Friedenshoffnung zum Rüstungswettlauf
DESCRIPTION:Zwei Ehepaare treffen sich nach langer Zeit im Herbst 2023 zu Wanderferien in Algund in Südtirol. Schnell wird die Zeitenwende zum beherrschenden Thema ihrer Gespräche. Lutz verteidigt den Pazifismus\, Tom plädiert für Rüsten und Reden\, Mira ist froh über ihre stabile Resilienz\, und Doro hat vor allem Angst. Michael Göring legt einen höchst aktuellen Roman vor\, der neben der Frage nach den Auswirkungen der Zeitenwende zugleich getragen wird  von allgemein menschlichen Themen wie Freundschaft\, Liebe\, Kinder oder Kinderlosigkeit\, Gleichmut und Gelassenheit – ein Roman\, der sich hervorragend eignet als Einstieg in eine anregende Diskussion. \n  \nEintritt 16€\, ermäßigt 14€\, Vorverkauf ab 26. 8. 2025 in der Buchhandlung Ida v. Behr. \nRestkarten an der Abendkasse: 18€\, ermäßigt 16€.
URL:https://kulturkreis-walddoerfer.net/veranstaltung/professor-dr-michael-goeringlesung-und-diskussion-die-zeitenwende-von-der-friedenshoffnung-zum-ruestungswettlauf/
LOCATION:Die Ohlendorff’sche Villa\, Im Alten Dorfe 28\, Hamburg\, 22359
CATEGORIES:Lesung
ATTACH;FMTTYPE=image/jpeg:https://kulturkreis-walddoerfer.net/wp-content/uploads/2025/08/Professor-Goering-c-Roman-Pawlowski.jpg
END:VEVENT
END:VCALENDAR