BEGIN:VCALENDAR
VERSION:2.0
PRODID:-//KulturKreis Walddörfer e.V. - ECPv6.15.20//NONSGML v1.0//EN
CALSCALE:GREGORIAN
METHOD:PUBLISH
X-WR-CALNAME:KulturKreis Walddörfer e.V.
X-ORIGINAL-URL:https://kulturkreis-walddoerfer.net
X-WR-CALDESC:Veranstaltungen für KulturKreis Walddörfer e.V.
REFRESH-INTERVAL;VALUE=DURATION:PT1H
X-Robots-Tag:noindex
X-PUBLISHED-TTL:PT1H
BEGIN:VTIMEZONE
TZID:Europe/Berlin
BEGIN:DAYLIGHT
TZOFFSETFROM:+0100
TZOFFSETTO:+0200
TZNAME:CEST
DTSTART:20240331T010000
END:DAYLIGHT
BEGIN:STANDARD
TZOFFSETFROM:+0200
TZOFFSETTO:+0100
TZNAME:CET
DTSTART:20241027T010000
END:STANDARD
BEGIN:DAYLIGHT
TZOFFSETFROM:+0100
TZOFFSETTO:+0200
TZNAME:CEST
DTSTART:20250330T010000
END:DAYLIGHT
BEGIN:STANDARD
TZOFFSETFROM:+0200
TZOFFSETTO:+0100
TZNAME:CET
DTSTART:20251026T010000
END:STANDARD
BEGIN:DAYLIGHT
TZOFFSETFROM:+0100
TZOFFSETTO:+0200
TZNAME:CEST
DTSTART:20260329T010000
END:DAYLIGHT
BEGIN:STANDARD
TZOFFSETFROM:+0200
TZOFFSETTO:+0100
TZNAME:CET
DTSTART:20261025T010000
END:STANDARD
END:VTIMEZONE
BEGIN:VEVENT
DTSTART;TZID=Europe/Berlin:20250901T183000
DTEND;TZID=Europe/Berlin:20250901T200000
DTSTAMP:20260423T212608
CREATED:20250803T085457Z
LAST-MODIFIED:20250803T085457Z
UID:4154-1756751400-1756756800@kulturkreis-walddoerfer.net
SUMMARY:Digitalschulungen für Senior:innen: Reisen – mit digitaler Unterstützung
DESCRIPTION:  \nDie wichtigsten Dokumente in der Cloud abspeichern? Zugang zum Internet im Ausland? Die besten Tipps aus Reise-Podcasts und Co.? Mit dem Smartphone wird das Reisen heute vielfach einfacher und komfortabler. \nDigitalmentor:in Kristina Schmidt wird in einem Vortrag digitale Unterstützungsmöglichkeiten von ihrer viermonatigen Asienreise vorstellen. Verschiedene Tools und Apps haben ihr die Reise erleichtert und auch zur eigenen Sicherheit beigetragen. \nDie Digitalmentor:innen zeigen Ihnen heute\, wie Sie Ihr Smartphone unterwegs als praktischen Reisebegleiter nutzen können. Sie haben Gelegenheit Fragen zu stellen\, nützliche Apps auf ihr eigenes Smartphone zu laden oder einfach die Gedanken schwelgen zu lassen für die eigene nächste Reise(planung). \n\nWir freuen uns auf Ihre Teilnahme!\n\n\nUm eine Anmeldung bis 29.08. wird gebeten:\n\nHier » Direkt « ein Ticket buchen.\nDer Eintritt ist frei.  Spenden sind willkommen und helfen den gemeinnützigen Veranstaltern\, die Reihe fortzuführen.
URL:https://kulturkreis-walddoerfer.net/veranstaltung/digitalschulungen-fuer-seniorinnen-reisen-mit-digitaler-unterstuetzung/
CATEGORIES:digital dabei,Vortrag,Workshop
ATTACH;FMTTYPE=image/png:https://kulturkreis-walddoerfer.net/wp-content/uploads/2025/08/ver1-1.png
END:VEVENT
END:VCALENDAR