BEGIN:VCALENDAR
VERSION:2.0
PRODID:-//KulturKreis Walddörfer e.V. - ECPv6.15.20//NONSGML v1.0//EN
CALSCALE:GREGORIAN
METHOD:PUBLISH
X-WR-CALNAME:KulturKreis Walddörfer e.V.
X-ORIGINAL-URL:https://kulturkreis-walddoerfer.net
X-WR-CALDESC:Veranstaltungen für KulturKreis Walddörfer e.V.
REFRESH-INTERVAL;VALUE=DURATION:PT1H
X-Robots-Tag:noindex
X-PUBLISHED-TTL:PT1H
BEGIN:VTIMEZONE
TZID:Europe/Berlin
BEGIN:DAYLIGHT
TZOFFSETFROM:+0100
TZOFFSETTO:+0200
TZNAME:CEST
DTSTART:20240331T010000
END:DAYLIGHT
BEGIN:STANDARD
TZOFFSETFROM:+0200
TZOFFSETTO:+0100
TZNAME:CET
DTSTART:20241027T010000
END:STANDARD
BEGIN:DAYLIGHT
TZOFFSETFROM:+0100
TZOFFSETTO:+0200
TZNAME:CEST
DTSTART:20250330T010000
END:DAYLIGHT
BEGIN:STANDARD
TZOFFSETFROM:+0200
TZOFFSETTO:+0100
TZNAME:CET
DTSTART:20251026T010000
END:STANDARD
BEGIN:DAYLIGHT
TZOFFSETFROM:+0100
TZOFFSETTO:+0200
TZNAME:CEST
DTSTART:20260329T010000
END:DAYLIGHT
BEGIN:STANDARD
TZOFFSETFROM:+0200
TZOFFSETTO:+0100
TZNAME:CET
DTSTART:20261025T010000
END:STANDARD
END:VTIMEZONE
BEGIN:VEVENT
DTSTART;TZID=Europe/Berlin:20250820T180000
DTEND;TZID=Europe/Berlin:20250820T180000
DTSTAMP:20260423T190728
CREATED:20250406T173258Z
LAST-MODIFIED:20250406T173258Z
UID:3838-1755712800-1755712800@kulturkreis-walddoerfer.net
SUMMARY:Declan O´ConnellKonzert: Irish and American Folk
DESCRIPTION:Open Air vor der Ohlendorff´schen Villa\n\nDer Ire Declan O´Connell interpretiert mit Herz und Leidenschaft nicht nur Klassiker seiner Heimat – wie „Whiskey in the Jar“\, „The Wild Rover“\, Balladen im Dubliners Style -\, sondern er ist auch ein großer Anhänger des American Folk und Blues: Songs von Bob Dylan\, Simon and Garfunkel\, Neil Young  und vielen anderen beliebten Sängern stehen auf seiner Setlist. Ein Kommentar zu seiner Interpretation von Dylan-Songs: „Brilliant timing and phrasing  – just like Dylan´s original“. Das Publikum kann sich auf den abwechslungsreichen Abend eines wunderbaren Musikers freuen. \nDer Eintritt ist frei\, der Kulturkreis freut sich über Spenden. Bringen Sie einfach nur gute Laune mit  – und viel Sonne.
URL:https://kulturkreis-walddoerfer.net/veranstaltung/declan-oconnellkonzert-irish-and-american-folk-2/
LOCATION:Die Ohlendorff’sche Villa\, Im Alten Dorfe 28\, Hamburg\, 22359
CATEGORIES:Konzert,Open-Air
ATTACH;FMTTYPE=image/jpeg:https://kulturkreis-walddoerfer.net/wp-content/uploads/2024/07/Declan-O_Connell-c-privat.jpg
END:VEVENT
END:VCALENDAR