BEGIN:VCALENDAR
VERSION:2.0
PRODID:-//KulturKreis Walddörfer e.V. - ECPv6.15.20//NONSGML v1.0//EN
CALSCALE:GREGORIAN
METHOD:PUBLISH
X-WR-CALNAME:KulturKreis Walddörfer e.V.
X-ORIGINAL-URL:https://kulturkreis-walddoerfer.net
X-WR-CALDESC:Veranstaltungen für KulturKreis Walddörfer e.V.
REFRESH-INTERVAL;VALUE=DURATION:PT1H
X-Robots-Tag:noindex
X-PUBLISHED-TTL:PT1H
BEGIN:VTIMEZONE
TZID:Europe/Berlin
BEGIN:DAYLIGHT
TZOFFSETFROM:+0100
TZOFFSETTO:+0200
TZNAME:CEST
DTSTART:20240331T010000
END:DAYLIGHT
BEGIN:STANDARD
TZOFFSETFROM:+0200
TZOFFSETTO:+0100
TZNAME:CET
DTSTART:20241027T010000
END:STANDARD
BEGIN:DAYLIGHT
TZOFFSETFROM:+0100
TZOFFSETTO:+0200
TZNAME:CEST
DTSTART:20250330T010000
END:DAYLIGHT
BEGIN:STANDARD
TZOFFSETFROM:+0200
TZOFFSETTO:+0100
TZNAME:CET
DTSTART:20251026T010000
END:STANDARD
BEGIN:DAYLIGHT
TZOFFSETFROM:+0100
TZOFFSETTO:+0200
TZNAME:CEST
DTSTART:20260329T010000
END:DAYLIGHT
BEGIN:STANDARD
TZOFFSETFROM:+0200
TZOFFSETTO:+0100
TZNAME:CET
DTSTART:20261025T010000
END:STANDARD
END:VTIMEZONE
BEGIN:VEVENT
DTSTART;TZID=Europe/Berlin:20250714T183000
DTEND;TZID=Europe/Berlin:20250714T200000
DTSTAMP:20260423T174859
CREATED:20250406T173222Z
LAST-MODIFIED:20250406T173222Z
UID:3833-1752517800-1752523200@kulturkreis-walddoerfer.net
SUMMARY:Volksdorf offlineThema heute:  Der Rotary Club Hamburg-Volksdorf - International denken\, lokal fördern Gesprächspartner:   Andreas Wende
DESCRIPTION:In Kooperation mit der Stiftung Ohlendorff´sche Villa:  Gesprächs- und Diskussionsforum Volksdorf offline \nGesprächspartner:  Andreas Wende\, Präsident des Rotary Clubs Hamburg-Volksdorf \nDie Rotarier sind ein weltweit tätiges Netzwerk von engagierten Personen\, die sich vor allem für humanitäre Dienste einsetzen und den Frieden weltweit fördern möchten. Wie sie organisiert sind\, wie sie sich finanzieren\, wie jeder sie unterstützen kann\, welche konkreten Ziele global umgesetzt werden und welche Rolle die lokalen Projekte spielen\, die Volksdorf zugutekommen\, erläutert der derzeitige Präsident des Clubs in Volksdorf. Für Fragen und einen ausführlichen Gedankenaustausch gibt es ausreichend Gelegenheit. \nDer Eintritt ist frei.  Spenden sind willkommen und helfen den gemeinnützigen Veranstaltern\, die Reihe fortzuführen.
URL:https://kulturkreis-walddoerfer.net/veranstaltung/volksdorf-offlinethema-heute-der-rotary-club-hamburg-volksdorf-international-denken-lokal-foerdern-gespraechspartner-andreas-wende/
LOCATION:Die Ohlendorff’sche Villa\, Im Alten Dorfe 28\, Hamburg\, 22359
CATEGORIES:Volksdorf offline
ATTACH;FMTTYPE=image/png:https://kulturkreis-walddoerfer.net/wp-content/uploads/2025/04/Andreas-Wende-c-Matthias-Scharf-600.png
END:VEVENT
END:VCALENDAR