BEGIN:VCALENDAR
VERSION:2.0
PRODID:-//KulturKreis Walddörfer e.V. - ECPv6.15.20//NONSGML v1.0//EN
CALSCALE:GREGORIAN
METHOD:PUBLISH
X-ORIGINAL-URL:https://kulturkreis-walddoerfer.net
X-WR-CALDESC:Veranstaltungen für KulturKreis Walddörfer e.V.
REFRESH-INTERVAL;VALUE=DURATION:PT1H
X-Robots-Tag:noindex
X-PUBLISHED-TTL:PT1H
BEGIN:VTIMEZONE
TZID:Europe/Berlin
BEGIN:DAYLIGHT
TZOFFSETFROM:+0100
TZOFFSETTO:+0200
TZNAME:CEST
DTSTART:20240331T010000
END:DAYLIGHT
BEGIN:STANDARD
TZOFFSETFROM:+0200
TZOFFSETTO:+0100
TZNAME:CET
DTSTART:20241027T010000
END:STANDARD
BEGIN:DAYLIGHT
TZOFFSETFROM:+0100
TZOFFSETTO:+0200
TZNAME:CEST
DTSTART:20250330T010000
END:DAYLIGHT
BEGIN:STANDARD
TZOFFSETFROM:+0200
TZOFFSETTO:+0100
TZNAME:CET
DTSTART:20251026T010000
END:STANDARD
BEGIN:DAYLIGHT
TZOFFSETFROM:+0100
TZOFFSETTO:+0200
TZNAME:CEST
DTSTART:20260329T010000
END:DAYLIGHT
BEGIN:STANDARD
TZOFFSETFROM:+0200
TZOFFSETTO:+0100
TZNAME:CET
DTSTART:20261025T010000
END:STANDARD
END:VTIMEZONE
BEGIN:VEVENT
DTSTART;TZID=Europe/Berlin:20250701T193000
DTEND;TZID=Europe/Berlin:20250701T193000
DTSTAMP:20260423T160816
CREATED:20250406T173151Z
LAST-MODIFIED:20250406T173151Z
UID:3831-1751398200-1751398200@kulturkreis-walddoerfer.net
SUMMARY:Bernd NasnerLichtbildvortrag: Albin Müller – Hamburg. Fotografien 1920 bis 1970
DESCRIPTION:Der Hamburger Fotograf Albin Müller war lange ein großer Unbekannter seines Fachs\, obwohl sein beeindruckendes Werk von großem Können zeugt. Innovativ war sein breites Repertoire aus Jahrzehnten unermüdlicher Arbeit\, bei der er Hamburg im Wandel dokumentierte – frühe Bilder von Stadtteilen\, wie dem Gängeviertel\, Aufnahmen aus der kriegszerstörten Stadt\, vom Wiederaufbau\, von Straßenszenen\, von Menschen bei ihren alltäglichen Arbeiten. Der Volksdorfer Fotograf Bernd Nasner konnte Müllers Nachlass\, der hunderte Fotos umfasste\, in akribischer Arbeit für die Öffentlichkeit retten. Daraus ist jetzt ein wunderbarer Bildband entstanden. Bernd Nasner hat viel Spannendes zu zeigen und zu berichten. \nEintritt 16€\, ermäßigt 14€\, Vorverkauf ab 17. 6. 2025 in der Buchhandlung Ida v. Behr. \nRestkarten an der Abendkasse: 18€\, ermäßigt 16€. \n 
URL:https://kulturkreis-walddoerfer.net/veranstaltung/bernd-nasnerlichtbildvortrag-albin-mueller-hamburg-fotografien-1920-bis-1970/
LOCATION:Die Ohlendorff’sche Villa\, Im Alten Dorfe 28\, Hamburg\, 22359
CATEGORIES:Vortrag
ATTACH;FMTTYPE=image/jpeg:https://kulturkreis-walddoerfer.net/wp-content/uploads/2025/04/Bernd-Nasner-privat-e1743934070572.jpeg
END:VEVENT
END:VCALENDAR