BEGIN:VCALENDAR
VERSION:2.0
PRODID:-//KulturKreis Walddörfer e.V. - ECPv6.15.20//NONSGML v1.0//EN
CALSCALE:GREGORIAN
METHOD:PUBLISH
X-ORIGINAL-URL:https://kulturkreis-walddoerfer.net
X-WR-CALDESC:Veranstaltungen für KulturKreis Walddörfer e.V.
REFRESH-INTERVAL;VALUE=DURATION:PT1H
X-Robots-Tag:noindex
X-PUBLISHED-TTL:PT1H
BEGIN:VTIMEZONE
TZID:Europe/Berlin
BEGIN:DAYLIGHT
TZOFFSETFROM:+0100
TZOFFSETTO:+0200
TZNAME:CEST
DTSTART:20240331T010000
END:DAYLIGHT
BEGIN:STANDARD
TZOFFSETFROM:+0200
TZOFFSETTO:+0100
TZNAME:CET
DTSTART:20241027T010000
END:STANDARD
BEGIN:DAYLIGHT
TZOFFSETFROM:+0100
TZOFFSETTO:+0200
TZNAME:CEST
DTSTART:20250330T010000
END:DAYLIGHT
BEGIN:STANDARD
TZOFFSETFROM:+0200
TZOFFSETTO:+0100
TZNAME:CET
DTSTART:20251026T010000
END:STANDARD
BEGIN:DAYLIGHT
TZOFFSETFROM:+0100
TZOFFSETTO:+0200
TZNAME:CEST
DTSTART:20260329T010000
END:DAYLIGHT
BEGIN:STANDARD
TZOFFSETFROM:+0200
TZOFFSETTO:+0100
TZNAME:CET
DTSTART:20261025T010000
END:STANDARD
END:VTIMEZONE
BEGIN:VEVENT
DTSTART;TZID=Europe/Berlin:20250520T193000
DTEND;TZID=Europe/Berlin:20250520T193000
DTSTAMP:20260421T123435
CREATED:20250406T172935Z
LAST-MODIFIED:20250507T061758Z
UID:3823-1747769400-1747769400@kulturkreis-walddoerfer.net
SUMMARY:>>Leider bereits ausgebucht!
DESCRIPTION:In ihrem Erfolgsprogramm über das Leben und die Musik von Edith Piaf singt  Julia Kock weltbekannte Chansons wie „Milord“\, „Je ne regrette rien“ und „La vie en rose“\, immer präzise\, immer einfühlsam und verzaubernd. Begleitet wird sie vom Akkordeonisten Frank Grischek\, der seinem Instrument in faszinierender Weise Melodien entlockt\,  von kraftvoll bis hauchzart. Mitten ins Herz treffen Julia Kock  mit ihrem Gesang und ihren einfühlsamen Moderationen  und der Akkordeonist Frank Grischek mit seinem facettenreichen Spiel – fast so\, als wäre die Piaf niemals von uns gegangen. \n>>Leider bereits ausgebucht!<< \nEintritt 18€\, ermäßigt 16€\, Vorverkauf ab  6. 5. 2025 in der Buchhandlung Ida v. Behr. \nRestkarten an der Abendkasse: 20€\, ermäßigt 18€.
URL:https://kulturkreis-walddoerfer.net/veranstaltung/julia-kock-und-frank-grischekkonzert-ein-edith-piaf-abend/
LOCATION:Die Ohlendorff’sche Villa\, Im Alten Dorfe 28\, Hamburg\, 22359
CATEGORIES:Konzert
ATTACH;FMTTYPE=image/jpeg:https://kulturkreis-walddoerfer.net/wp-content/uploads/2023/02/Julia-Kock-Frank-Grischek-c-Robert-Grischek.jpg
END:VEVENT
END:VCALENDAR